BEGIN:VCALENDAR
VERSION:2.0
PRODID:-//Miss Creática | Espacio Creativo en Santa Coloma de Gramenet - ECPv6.6.0.2//NONSGML v1.0//EN
CALSCALE:GREGORIAN
METHOD:PUBLISH
X-WR-CALNAME:Miss Creática | Espacio Creativo en Santa Coloma de Gramenet
X-ORIGINAL-URL:https://misscreatica.com
X-WR-CALDESC:Eventos para Miss Creática | Espacio Creativo en Santa Coloma de Gramenet
REFRESH-INTERVAL;VALUE=DURATION:PT1H
X-Robots-Tag:noindex
X-PUBLISHED-TTL:PT1H
BEGIN:VTIMEZONE
TZID:Europe/Madrid
BEGIN:DAYLIGHT
TZOFFSETFROM:+0100
TZOFFSETTO:+0200
TZNAME:CEST
DTSTART:20170326T010000
END:DAYLIGHT
BEGIN:STANDARD
TZOFFSETFROM:+0200
TZOFFSETTO:+0100
TZNAME:CET
DTSTART:20171029T010000
END:STANDARD
BEGIN:DAYLIGHT
TZOFFSETFROM:+0100
TZOFFSETTO:+0200
TZNAME:CEST
DTSTART:20180325T010000
END:DAYLIGHT
BEGIN:STANDARD
TZOFFSETFROM:+0200
TZOFFSETTO:+0100
TZNAME:CET
DTSTART:20181028T010000
END:STANDARD
END:VTIMEZONE
BEGIN:VEVENT
DTSTART;TZID=Europe/Madrid:20181202T093000
DTEND;TZID=Europe/Madrid:20181202T140000
DTSTAMP:20260422T173310
CREATED:20181105T185828Z
LAST-MODIFIED:20181105T185828Z
UID:14904-1543743000-1543759200@misscreatica.com
SUMMARY:Craft Party Turno Domingo 2/12/2018 por la mañana
DESCRIPTION:Sí!!!! ya está aquí la Séptima Craft Party!!!! \nTurno Domingo 2/12/2018 de 9:30 a 14:00h \n3 proyectos\, sorteos\, pica – pica\, regalos  y el buen rollo y la diversión están aseguradas!  Si has venido a alguna de las anteriores (o a todas las anteriores ;-)) ya sabes de qué hablo jeje. Si no has venido a ninguna aquí te dejo unos  enlaces a las crónicas de las 3 primeras ediciones para que veas lo bien que nos lo pasamos ^_^ Resumiendo muy mucho la Craftparty es un evento lleno de creatividad con un montón de personas a las que les apasiona el handmade y crear cosas bonitas \nCrónica primera Craftparty\nCrónica segunda Craftparty\nCrónica tercera Craftparty\n\nLa Craftparty la celebraremos en  Cute & Crafts (C/Sant Ramón\, 14  08922 Sta\, Coloma de Gramenet – Barcelona) y las plazas son limitadas.\n\nMUY IMPORTANTE:\nLa compra de la plaza se realiza exclusivamente a través de esta web. El precio de la Craft Party es de 38€ por persona.\n\nComo en las ediciones anteriores\, haremos 3 proyectos. Durante las próximas semanas publicaré algunas pistas pero como siempre será  “sorpresa” hasta el final \nPor favor si tienes cualquier duda escríbenos haciendo click aquí 
URL:https://misscreatica.com/evento/craft-party-turno-domingo-2-12-2018-por-la-manana/
LOCATION:Cute and Crafts\, C/ Sant Ramón\, 14 - local\, Santa Coloma de Gramenet\, Barcelona\, 08922\, España
CATEGORIES:Taller
ATTACH;FMTTYPE=image/jpeg:https://misscreatica.com/wp-content/uploads/2018/10/craft-party-navidad-2018-web.jpg
END:VEVENT
BEGIN:VEVENT
DTSTART;TZID=Europe/Madrid:20181201T163000
DTEND;TZID=Europe/Madrid:20181201T203000
DTSTAMP:20260422T173310
CREATED:20181105T185607Z
LAST-MODIFIED:20181105T185607Z
UID:14902-1543681800-1543696200@misscreatica.com
SUMMARY:Craft Party Turno Sábado 1/12/2018 por la tarde
DESCRIPTION:Sí!!!! ya está aquí la Séptima Craft Party!!!! \nTurno Sábado 1/12/2018 de 16:30 a 20:30h \n3 proyectos\, sorteos\, pica – pica\, regalos  y el buen rollo y la diversión están aseguradas!  Si has venido a alguna de las anteriores (o a todas las anteriores ;-)) ya sabes de qué hablo jeje. Si no has venido a ninguna aquí te dejo unos  enlaces a las crónicas de las 3 primeras ediciones para que veas lo bien que nos lo pasamos ^_^ Resumiendo muy mucho la Craftparty es un evento lleno de creatividad con un montón de personas a las que les apasiona el handmade y crear cosas bonitas \nCrónica primera Craftparty\nCrónica segunda Craftparty\nCrónica tercera Craftparty\n\nLa Craftparty la celebraremos en  Cute & Crafts (C/Sant Ramón\, 14  08922 Sta\, Coloma de Gramenet – Barcelona) y las plazas son limitadas.\n\nMUY IMPORTANTE:\nLa compra de la plaza se realiza exclusivamente a través de esta web. El precio de la Craft Party es de 38€ por persona.\nComo en las ediciones anteriores\, haremos 3 proyectos. Durante las próximas semanas publicaré algunas pistas pero como siempre será  “sorpresa” hasta el final \nPor favor si tienes cualquier duda escríbenos haciendo click aquí 
URL:https://misscreatica.com/evento/craft-party-turno-sabado-1-12-2018-por-la-tarde/
LOCATION:Cute and Crafts\, C/ Sant Ramón\, 14 - local\, Santa Coloma de Gramenet\, Barcelona\, 08922\, España
CATEGORIES:Taller
ATTACH;FMTTYPE=image/jpeg:https://misscreatica.com/wp-content/uploads/2018/10/craft-party-navidad-2018-web.jpg
END:VEVENT
BEGIN:VEVENT
DTSTART;TZID=Europe/Madrid:20181130T170000
DTEND;TZID=Europe/Madrid:20181130T200000
DTSTAMP:20260422T173310
CREATED:20181105T190018Z
LAST-MODIFIED:20181105T190018Z
UID:14906-1543597200-1543608000@misscreatica.com
SUMMARY:Taller de costura con Una Mami Crafter – Hacemos una funda para Bullet Journal
DESCRIPTION:Si tienes ganas de iniciarte en el mundo de la costura este taller es perfecto para tí! \nAprenderás todos los trucos de  la mano de Diana : Una Mami Crafter  y te llevarás una funda para Bullet Journal de lo más chula!!\nTodo el material está incluido\, una vez te apuntes te enviaremos un e-mail con las fotos de los 3 modelos de telas disponibles para que elijas la que más te guste. \nNo es necesario conocimientos previos ni de costura\, máquina de coser o patronaje. Diana te enseñará todo lo que necesitas para que te lleves una preciosa funda para tu Bullet Journal. \nLas plazas son muy limitadas así que si tienes ganas de pasar una tarde de lo más entretenida no te lo pienses demasiado! \nEl taller se realizará el viernes 30 de noviembre de 2018 de 17 a 20:30h\nEl precio por persona es de 59\,95 €\nTodos los materiales necesarios están incluidos \n\nNota importante: \nSi eliges como forma de pago la transferencia bancaria deberás enviarnos el justificante de pago a la mayor brevedad para validar la reserva de tu plaza. \nSi tienes cualquier duda sobre el taller puedes contactar con nosotros aquí  \nTe interesan este tipo de talleres pero no puedes venir a este en concreto? No te preocupes! suscríbete a nuestro Crafts&Friends Club para estar informad@ de todas nuestras actividades. Apúntate gratis aquí 
URL:https://misscreatica.com/evento/taller-de-costura-con-una-mami-crafter-hacemos-una-funda-para-bullet-journal/
LOCATION:Cute and Crafts\, C/ Sant Ramón\, 14 - local\, Santa Coloma de Gramenet\, Barcelona\, 08922\, España
ATTACH;FMTTYPE=image/jpeg:https://misscreatica.com/wp-content/uploads/2018/11/IMG_7875-e1541436458193.jpg
END:VEVENT
BEGIN:VEVENT
DTSTART;TZID=Europe/Madrid:20181124T163000
DTEND;TZID=Europe/Madrid:20181124T203000
DTSTAMP:20260422T173310
CREATED:20181105T190151Z
LAST-MODIFIED:20181105T190151Z
UID:14908-1543077000-1543091400@misscreatica.com
SUMMARY:Taller Amigurumi con Juds Atelier – Hacemos un elfo navideño
DESCRIPTION:Te gusta tejer? Te encantan los amigurumis? No puedes perderte este taller con Judith Sells Juds Atelier  \nJudith es una apasionada de las lanas y los hilos y diseña unos amigurumis adorables de los que seguro te enamorarás! \nNos ha preparado un patrón muy especial para este taller en el que harás desde cero este precioso elfo navideño. \nEl único requisito es que sepas hacer punto bajo con ganchillo\, el resto te lo ensañaremos en el taller. \nAhora que se aproxima la navidad no te parece una super idea aprender a tejer estos muñequitos para hacer regalos especiales? \nEn el taller aprenderás a crear desde cero un precioso elfo en colores muy navideños. Todo el material está incluido en el precio del taller. \nLas plazas son muy limitadas así que si tienes ganas de pasar una tarde de lo más entretenida no te lo pienses demasiado! \nEl taller se realizará el sábado 24 de noviembre de 16:30 a 20:30h\nEl precio por persona es de 60 €\n(Para que no se cobren gastos de envío indica “recogida local”)\nTodos los materiales necesarios están incluidos \n\nNota importante: \nSi eliges como forma de pago la transferencia bancaria deberás enviarnos el justificante de pago a la mayor brevedad para validar la reserva de tu plaza. \nSi tienes cualquier duda sobre el taller puedes contactar con nosotros aquí  \nTe interesan este tipo de talleres pero no puedes venir a este en concreto? No te preocupes! suscríbete a nuestro Crafts&Friends Club para estar informad@ de todas nuestras actividades. Apúntate gratis aquí  \n 
URL:https://misscreatica.com/evento/taller-amigurumi-con-juds-atelier-hacemos-un-elfo-navideno/
LOCATION:Cute and Crafts\, C/ Sant Ramón\, 14 - local\, Santa Coloma de Gramenet\, Barcelona\, 08922\, España
CATEGORIES:Taller
ATTACH;FMTTYPE=image/jpeg:https://misscreatica.com/wp-content/uploads/2018/11/FOLLET3-e1541438045418.jpg
END:VEVENT
BEGIN:VEVENT
DTSTART;TZID=Europe/Madrid:20181123T170000
DTEND;TZID=Europe/Madrid:20181123T203000
DTSTAMP:20260422T173310
CREATED:20181105T190303Z
LAST-MODIFIED:20181105T190303Z
UID:14910-1542992400-1543005000@misscreatica.com
SUMMARY:Taller MixMedia Art con Esther Voltà
DESCRIPTION:Si te gusta la pintura\, mancharte las manos\, jugar con texturas y collage\, no puedes perderte este taller con Esther Voltà. \nEsther Voltà es una artista de los pies a la cabeza y viene a nuestro espacio a impartir su primer taller y estamos seguras de que te va a encantar! \nEn este taller vas a aprender a hacer desde cero un lienzo mezclando técnicas de mix media y dando mucho protagonismo a Cleo\, una preciosa sirena \nUtilizaremos técnicas de pintura\, collage y texturas. Utilizaremos también lápices acuarelables y te llevarás una auténtica obra de arte al más puro estilo Esther Voltà para lucir en cualquier rincón de tu hogar\, ¡¡con luces incluidas!!! \nEl taller se realizará el viernes  23 de noviembre de 17 a 20:30h\nEl precio por persona es de 60 €\n(Para que no se cobren gastos de envío indica “recogida local”)\nTodos los materiales necesarios están incluidos\, incluida la guirnalda de luces de la fotografía. \n\nNota importante: \nSi eliges como forma de pago la transferencia bancaria deberás enviarnos el justificante de pago a la mayor brevedad para validar la reserva de tu plaza. \nSi tienes cualquier duda sobre el taller puedes contactar con nosotros aquí  \nTe interesan este tipo de talleres pero no puedes venir a este en concreto? No te preocupes! suscríbete a nuestro Crafts&Friends Club para estar informad@ de todas nuestras actividades. Apúntate gratis aquí  \n 
URL:https://misscreatica.com/evento/taller-mixmedia-art-con-esther-volta/
LOCATION:Cute and Crafts\, C/ Sant Ramón\, 14 - local\, Santa Coloma de Gramenet\, Barcelona\, 08922\, España
ATTACH;FMTTYPE=image/jpeg:https://misscreatica.com/wp-content/uploads/2018/11/d46fc920-c8a1-4bf8-8558-60bfd63f73ed-e1541438947983.jpg
END:VEVENT
BEGIN:VEVENT
DTSTART;VALUE=DATE:20181027
DTEND;VALUE=DATE:20181028
DTSTAMP:20260422T173310
CREATED:20180916T211927Z
LAST-MODIFIED:20180916T211927Z
UID:13746-1540598400-1540684799@misscreatica.com
SUMMARY:Taller carvado de sellos - Block Printing con Ana Sola
DESCRIPTION:El próximo 27 de octubre vendrá a nuestra tiendita la gran Ana Sola. Si todavía no la conoces te recomiendo que veas una muestra de su trabajo en instagram.\n\nHace unos sellos super chulos y muy bien acabados y la he invitado a venir a la tiendita a que nos muestre su arte y nos enseñe a carvar como profesionales!\n\nNo hace falta tener experiencia en carvado de sellos\, en las 4 horas que dura el taller vas a aprender desde cero un montón de técnicas para hacer unos sellos espectaculares que podrás utilizar en tus trabajos de scrapbooking\, decoración\, home decor\, lo que tú quieras!!\n\nNos traerá un montón de diseños\, para distintos gustos y dificultades\, os dará un montón de trucos y además todo el material te lo llevarás a casa para seguir practicando.\n\nEl material está incluido\, solo tendrás que traer las ganas de aprender y pasarlo bien!\n\nGoma para carvar\, gubias\, tintas\, diseños y alguna sorpresita más \n\nTe vienes???\nTurno de mañana 27 de octubre de 10 a 14:00h\nTurno de tarde 27 de octubre de 16:30 a 20:30h
URL:https://misscreatica.com/evento/taller-carvado-de-sellos-block-printing-con-ana-sola/
LOCATION:Cute and Crafts\, C/ Sant Ramón\, 14 - local\, Santa Coloma de Gramenet\, Barcelona\, 08922\, España
CATEGORIES:Taller
ATTACH;FMTTYPE=image/jpeg:https://misscreatica.com/wp-content/uploads/2018/09/taller-carvado-de-sellos-ana-sola-santa-coloma-de-gramenet-barcelona-cute-and-crafts-e1537130626693.jpg
END:VEVENT
BEGIN:VEVENT
DTSTART;TZID=Europe/Madrid:20181020T100000
DTEND;TZID=Europe/Madrid:20181020T133000
DTSTAMP:20260422T173310
CREATED:20181001T221629Z
LAST-MODIFIED:20181001T222207Z
UID:13874-1540029600-1540042200@misscreatica.com
SUMMARY:Taller de Pouring Barcelona
DESCRIPTION:Conoces el Pouring o Arte Fluido? esta es tu oportunidad de aprender y experimentar con esta técnica artística\, fácil\, divertida y con unos resultados increíbles! \nAriadna Simó\, te enseñará a prepararte el medium\, los soportes\, trucos y 3 técnicas para conseguir distintos resultados con la técnica del Pouring. \nDescubrirás una técnica curiosa\, resultona y muy divertida. No puedes perdértelo!
URL:https://misscreatica.com/evento/taller-de-pouring-barcelona/
LOCATION:Cute and Crafts\, C/ Sant Ramón\, 14 - local\, Santa Coloma de Gramenet\, Barcelona\, 08922\, España
CATEGORIES:Taller
ATTACH;FMTTYPE=image/jpeg:https://misscreatica.com/wp-content/uploads/2018/10/pouring-arte-fluido-ariadna-simó-www.arteartesaniaymanualidades-11-e1538431717880.jpg
END:VEVENT
BEGIN:VEVENT
DTSTART;TZID=Europe/Madrid:20180831T170000
DTEND;TZID=Europe/Madrid:20180831T203000
DTSTAMP:20260422T173310
CREATED:20180802T225541Z
LAST-MODIFIED:20180802T232245Z
UID:12839-1535734800-1535747400@misscreatica.com
SUMMARY:Taller quinto aniversario Cute & Crafts
DESCRIPTION:Parece que fue ayer cuando abrí las puertas de Cute & Crafts pero han pasado ya casi 5 años. Como viene siendo tradición estoy preparando un taller especial de aniversario al que me encantaría que vinieras! \nEn el taller haremos un Mini-álbum\, utilizando la colección Sunshine & Good moments de Amy Tangerine. Reconozco que me he salido por completo de mi área de confort y he utilizado colores que habitualmente no utilizo. El resultado es un mini-álbum de colores vivos e intensos\, que combinados con negro le da un toque especial. \nLa encuadernación no se como llamarla…. es una mezcla de varias técnicas y yo creo que ha quedado resultona y verás que es sencilla pero que da mucho mucho juego! \nLas portadas las haremos a partir de papel de acuarela\, sprays\,  tinta\, gesso y unos cuantos die cuts de la colección. \nEn el interior bolsillos\, desplegables\, y unos cuantos recursos para que aproveches al máximo el espacio y el material para crear un miniálbum ideal para recoger las fotos que más te gusten. \nPara este taller he abierto 3 turnos: \nPrimer turno: Viernes 31 de agosto de 17:00 a 20:30h\nSegundo turno: Sábado 1 de septiembre de 10 a 13:30h\nTercer turno: Sábado 1 de septiembre de 17:00 a 20:30h. \nEl material que deberás traer al taller es el cortapega básico\, tu base de corte y si tienes cizalla también puedes traerla\, si no tienes no pasa nada 🙂 \nPuesto que es un taller especial\, cada asistente recibirá un detallito y además haremos un sorteo muy guay entre todos los que vengáis. \nLas plazas son limitadas de modo que si te apetece venir a celebrar con nosotros nuestros 5 años\, APÚNTATE!!
URL:https://misscreatica.com/evento/taller-quinto-aniversario-cute-crafts/
LOCATION:Cute and Crafts\, C/ Sant Ramón\, 14 - local\, Santa Coloma de Gramenet\, Barcelona\, 08922\, España
CATEGORIES:Taller
ATTACH;FMTTYPE=image/jpeg:https://misscreatica.com/wp-content/uploads/2018/08/eeuu-1-de-1-1-e1533250452903.jpg
END:VEVENT
BEGIN:VEVENT
DTSTART;TZID=Europe/Madrid:20180713T173000
DTEND;TZID=Europe/Madrid:20180713T203000
DTSTAMP:20260422T173310
CREATED:20180703T180304Z
LAST-MODIFIED:20180703T211356Z
UID:11949-1531503000-1531513800@misscreatica.com
SUMMARY:Taller Scrapbooking en Santa Coloma: miniálbum con Mariona Scrap
DESCRIPTION:Taller miniálbum con Mariona Scrap \nHaremos una estructura de cartonaje con una ventana shaker super molona. Esta estructura irá forrada de papel de acuarela con el que jugaremos con las tintas en spray.\nPara el interior crearemos una encuadernación desplegable en zig-zag con bolsillos  pestañas y mucho espacio para fotos.\nMaterial incluido\nSolo deberás  traer el corta-pega básico (tijeras\, pegamento/cinta de doble cara\, cizalla si tienes\, lápiz\, regla)
URL:https://misscreatica.com/evento/taller-minialbum-con-mariona-scrap/
LOCATION:Cute and Crafts\, C/ Sant Ramón\, 14 - local\, Santa Coloma de Gramenet\, Barcelona\, 08922\, España
CATEGORIES:Taller
ATTACH;FMTTYPE=image/jpeg:https://misscreatica.com/wp-content/uploads/2018/07/43023c75-4a99-447c-bb5d-a14f4977305c.jpg
END:VEVENT
BEGIN:VEVENT
DTSTART;TZID=Europe/Madrid:20180623T100000
DTEND;TZID=Europe/Madrid:20180623T133000
DTSTAMP:20260422T173310
CREATED:20180621T082738Z
LAST-MODIFIED:20180621T214140Z
UID:11679-1529748000-1529760600@misscreatica.com
SUMMARY:Taller Mix-media con Mima Molina
DESCRIPTION:Taller Mix-media el 23 de Junio por la mañana vamos a hacer nuestra particular pre-verbena de Sant Joan por todo lo alto! vamos a tener un nuevo taller con Mima Molina! \nSi te gusta el MixMedia no te lo puedes perder porque vamos a mancharnos las manos a base de bien! te cuento todo lo que haremos! \nCrearemos un álbum desde cero. Vamos a trabajar desde un papel en blanco\, creando todos nuestros fondos y nuestros die cuts con pigmentos. Probaremos diferentes técnicas para conseguir distintos resultados. \nCrearemos texturas y capas y hasta dibujaremos un poco. Ven preparad@ para divertirte y mancharte las manos! Ah! y nos zamparemos una coca de Sant Joan bien rica! ^_^\nSábado 23 de junio de 10 a 13:30h\nPrecio 35€\nMaterial incluido\nPlazas limitadas.
URL:https://misscreatica.com/evento/taller-mix-media-con-mima-molina/
LOCATION:Cute and Crafts\, C/ Sant Ramón\, 14 - local\, Santa Coloma de Gramenet\, Barcelona\, 08922\, España
CATEGORIES:Taller
ATTACH;FMTTYPE=image/jpeg:https://misscreatica.com/wp-content/uploads/2018/06/IMG_2203.jpg
END:VEVENT
BEGIN:VEVENT
DTSTART;TZID=Europe/Madrid:20180101T080000
DTEND;TZID=Europe/Madrid:20180101T170000
DTSTAMP:20260422T173310
CREATED:20171229T174547Z
LAST-MODIFIED:20171229T191603Z
UID:5834-1514793600-1514826000@misscreatica.com
SUMMARY:Taller Escribe bonito
DESCRIPTION:Aprende a hacer letras bonitas! sombras\, técnicas con los rotuladores con punta de pincel\, decoraciones\, todo lo que necesitas para empezar a dejar boquiabierto a “toquisqui” con tu caligrafía 🙂 \nMaterial incluido: plantillas + 2 rotuladores tombow brushpen + 1 rotulador ecoline brush + 1 gelly roll que te llevarás a casa para seguir practicando. No podrás parar!!\nPlazas limitadas.
URL:https://misscreatica.com/evento/taller-escribe-bonito/
LOCATION:Cute and Crafts\, C/ Sant Ramón\, 14 - local\, Santa Coloma de Gramenet\, Barcelona\, 08922\, España
CATEGORIES:Taller
ATTACH;FMTTYPE=image/png:https://misscreatica.com/wp-content/uploads/2017/12/escribe-bonito.png
END:VEVENT
BEGIN:VEVENT
DTSTART;TZID=Europe/Madrid:20171230T080000
DTEND;TZID=Europe/Madrid:20171230T170000
DTSTAMP:20260422T173310
CREATED:20171229T173822Z
LAST-MODIFIED:20171229T191623Z
UID:5831-1514620800-1514653200@misscreatica.com
SUMMARY:Taller Miniálbum
DESCRIPTION:Haremos un miniálbum muy cuki con portadas de acetato y anillas. En su interior haremos bolsillos\, jugaremos con tintas\, acuarelas\, pasta glimmer\, y hasta haremos un bordado en el papel!
URL:https://misscreatica.com/evento/taller-minialbum/
LOCATION:Cute and Crafts\, C/ Sant Ramón\, 14 - local\, Santa Coloma de Gramenet\, Barcelona\, 08922\, España
CATEGORIES:Taller
ATTACH;FMTTYPE=image/jpeg:https://misscreatica.com/wp-content/uploads/2017/12/taller-minialbum.jpg
END:VEVENT
END:VCALENDAR