BEGIN:VCALENDAR
VERSION:2.0
PRODID:-//Miss Creática | Espacio Creativo en Santa Coloma de Gramenet - ECPv6.6.0.2//NONSGML v1.0//EN
CALSCALE:GREGORIAN
METHOD:PUBLISH
X-ORIGINAL-URL:https://misscreatica.com
X-WR-CALDESC:Eventos para Miss Creática | Espacio Creativo en Santa Coloma de Gramenet
REFRESH-INTERVAL;VALUE=DURATION:PT1H
X-Robots-Tag:noindex
X-PUBLISHED-TTL:PT1H
BEGIN:VTIMEZONE
TZID:Europe/Madrid
BEGIN:DAYLIGHT
TZOFFSETFROM:+0100
TZOFFSETTO:+0200
TZNAME:CEST
DTSTART:20250330T010000
END:DAYLIGHT
BEGIN:STANDARD
TZOFFSETFROM:+0200
TZOFFSETTO:+0100
TZNAME:CET
DTSTART:20251026T010000
END:STANDARD
END:VTIMEZONE
BEGIN:VEVENT
DTSTART;TZID=Europe/Madrid:20251104T180000
DTEND;TZID=Europe/Madrid:20251104T193000
DTSTAMP:20260425T183306
CREATED:20251028T111328Z
LAST-MODIFIED:20251028T111328Z
UID:71275-1762279200-1762284600@misscreatica.com
SUMMARY:Monográfico Amigurumi - Clase 3
DESCRIPTION:Monográfico Amigurumi – Clase 3
URL:https://misscreatica.com/evento/monografico-amigurumi-clase-3-2/
LOCATION:Miss Creática Espai Creatiu\, C/Sant Ramón\, 14\, Santa Coloma de Gramenet\, Barcelona\, 08922\, España
CATEGORIES:Monográfico
ATTACH;FMTTYPE=image/png:https://misscreatica.com/wp-content/uploads/2025/03/formulario-amigurumi.png
END:VEVENT
BEGIN:VEVENT
DTSTART;TZID=Europe/Madrid:20251105T170000
DTEND;TZID=Europe/Madrid:20251105T200000
DTSTAMP:20260425T183306
CREATED:20251028T110837Z
LAST-MODIFIED:20251028T110837Z
UID:71271-1762362000-1762372800@misscreatica.com
SUMMARY:Taller Cumpleaños Privado
DESCRIPTION:Taller Cumpleaños Privado
URL:https://misscreatica.com/evento/taller-cumpleanos-privado/
LOCATION:Miss Creática Espai Creatiu\, C/Sant Ramón\, 14\, Santa Coloma de Gramenet\, Barcelona\, 08922\, España
CATEGORIES:Cumpleaños creativo
ATTACH;FMTTYPE=image/jpeg:https://misscreatica.com/wp-content/uploads/2025/01/crafty-cumples-grafica-banner.jpg
END:VEVENT
BEGIN:VEVENT
DTSTART;TZID=Europe/Madrid:20251115T103000
DTEND;TZID=Europe/Madrid:20251115T130000
DTSTAMP:20260425T183306
CREATED:20251028T111835Z
LAST-MODIFIED:20251028T111835Z
UID:71280-1763202600-1763211600@misscreatica.com
SUMMARY:Taller Velas de soja y resina Ecológica
DESCRIPTION:Taller Velas de soja y resina Ecológica \nFecha 15/11/2025\nHorario: de 10:30 a 13:00h \nNo necesitas tener experiencia previa \nVamos a crear un recipiente en forma de tacita de café con resina ecológica y lo utilizaremos como envase de una vela que podrás decorar y aplicar la esencia que más te guste. \nTambién haremos otra velita en recipiente y una actividad que me reservo para que así sea sorpresa para ti 🙂 \nEs una experiencia creativa que va más allá\, no es solo crear unas velas es disfrutar de tu tiempo y regalarte un momento de atención plena y de experimentar con todos tus sentidos. \nIncluye pica pica dulce \nRecomendado para adultos. \nPlazas limitadas.
URL:https://misscreatica.com/evento/taller-velas-de-soja-y-resina-ecologica/
LOCATION:Miss Creática Espai Creatiu\, C/Sant Ramón\, 14\, Santa Coloma de Gramenet\, Barcelona\, 08922\, España
CATEGORIES:Taller
ATTACH;FMTTYPE=image/jpeg:https://misscreatica.com/wp-content/uploads/2025/10/velas-resina.jpg
END:VEVENT
BEGIN:VEVENT
DTSTART;TZID=Europe/Madrid:20251118T173000
DTEND;TZID=Europe/Madrid:20251118T193000
DTSTAMP:20260425T183306
CREATED:20251028T112824Z
LAST-MODIFIED:20251028T112824Z
UID:71285-1763487000-1763494200@misscreatica.com
SUMMARY:Taller Cumpleaños Privado
DESCRIPTION:Taller Cumpleaños Privado
URL:https://misscreatica.com/evento/taller-cumpleanos-privado-2/
LOCATION:Miss Creática Espai Creatiu\, C/Sant Ramón\, 14\, Santa Coloma de Gramenet\, Barcelona\, 08922\, España
CATEGORIES:Cumpleaños creativo
ATTACH;FMTTYPE=image/jpeg:https://misscreatica.com/wp-content/uploads/2025/01/crafty-cumples-grafica-banner.jpg
END:VEVENT
BEGIN:VEVENT
DTSTART;TZID=Europe/Madrid:20251122T100000
DTEND;TZID=Europe/Madrid:20251122T130000
DTSTAMP:20260425T183306
CREATED:20251028T112716Z
LAST-MODIFIED:20251028T112716Z
UID:71282-1763805600-1763816400@misscreatica.com
SUMMARY:Taller de iniciación al Bordado Creativo
DESCRIPTION:Taller de iniciación al Bordado Creativo\nIndicado para adultos \n 
URL:https://misscreatica.com/evento/taller-de-iniciacion-al-bordado-creativo/
LOCATION:Miss Creática Espai Creatiu\, C/Sant Ramón\, 14\, Santa Coloma de Gramenet\, Barcelona\, 08922\, España
CATEGORIES:Taller
END:VEVENT
BEGIN:VEVENT
DTSTART;TZID=Europe/Madrid:20251125T180000
DTEND;TZID=Europe/Madrid:20251125T193000
DTSTAMP:20260425T183306
CREATED:20251028T113228Z
LAST-MODIFIED:20251028T113228Z
UID:71287-1764093600-1764099000@misscreatica.com
SUMMARY:Monográfico Amigurumi – Clase 5
DESCRIPTION:Monográfico Amigurumi – Clase 5
URL:https://misscreatica.com/evento/monografico-amigurumi-clase-5/
LOCATION:Miss Creática Espai Creatiu\, C/Sant Ramón\, 14\, Santa Coloma de Gramenet\, Barcelona\, 08922\, España
CATEGORIES:Monográfico
ATTACH;FMTTYPE=image/png:https://misscreatica.com/wp-content/uploads/2025/03/formulario-amigurumi.png
END:VEVENT
BEGIN:VEVENT
DTSTART;TZID=Europe/Madrid:20251129T103000
DTEND;TZID=Europe/Madrid:20251129T130000
DTSTAMP:20260425T183306
CREATED:20251028T113632Z
LAST-MODIFIED:20251028T113632Z
UID:71289-1764412200-1764421200@misscreatica.com
SUMMARY:Taller Letras Bonitas - Brushlettering
DESCRIPTION:Taller Letras Bonitas – Brushlettering \n 
URL:https://misscreatica.com/evento/taller-letras-bonitas-brushlettering/
LOCATION:Miss Creática Espai Creatiu\, C/Sant Ramón\, 14\, Santa Coloma de Gramenet\, Barcelona\, 08922\, España
CATEGORIES:Taller
ATTACH;FMTTYPE=image/jpeg:https://misscreatica.com/wp-content/uploads/2021/02/taller-brush-lettering.jpg
END:VEVENT
END:VCALENDAR