BEGIN:VCALENDAR
VERSION:2.0
PRODID:-//Miss Creática | Espacio Creativo en Santa Coloma de Gramenet - ECPv6.6.0.2//NONSGML v1.0//EN
CALSCALE:GREGORIAN
METHOD:PUBLISH
X-WR-CALNAME:Miss Creática | Espacio Creativo en Santa Coloma de Gramenet
X-ORIGINAL-URL:https://misscreatica.com
X-WR-CALDESC:Eventos para Miss Creática | Espacio Creativo en Santa Coloma de Gramenet
REFRESH-INTERVAL;VALUE=DURATION:PT1H
X-Robots-Tag:noindex
X-PUBLISHED-TTL:PT1H
BEGIN:VTIMEZONE
TZID:Europe/Madrid
BEGIN:DAYLIGHT
TZOFFSETFROM:+0100
TZOFFSETTO:+0200
TZNAME:CEST
DTSTART:20250330T010000
END:DAYLIGHT
BEGIN:STANDARD
TZOFFSETFROM:+0200
TZOFFSETTO:+0100
TZNAME:CET
DTSTART:20251026T010000
END:STANDARD
END:VTIMEZONE
BEGIN:VEVENT
DTSTART;TZID=Europe/Madrid:20251118T173000
DTEND;TZID=Europe/Madrid:20251118T193000
DTSTAMP:20260425T182746
CREATED:20251028T112824Z
LAST-MODIFIED:20251028T112824Z
UID:71285-1763487000-1763494200@misscreatica.com
SUMMARY:Taller Cumpleaños Privado
DESCRIPTION:Taller Cumpleaños Privado
URL:https://misscreatica.com/evento/taller-cumpleanos-privado-2/
LOCATION:Miss Creática Espai Creatiu\, C/Sant Ramón\, 14\, Santa Coloma de Gramenet\, Barcelona\, 08922\, España
CATEGORIES:Cumpleaños creativo
ATTACH;FMTTYPE=image/jpeg:https://misscreatica.com/wp-content/uploads/2025/01/crafty-cumples-grafica-banner.jpg
END:VEVENT
END:VCALENDAR